BEGIN:VCALENDAR
VERSION:2.0
PRODID:-//eventon.com NONSGML v1.0//EN
CALSCALE:GREGORIAN
METHOD:PUBLISH
BEGIN:VEVENT
UID:69eced5a92d5f
DTSTAMP:20260425T163538Z
DTSTART:20250830T210000Z
DTEND:20250830T233000Z
LOCATION:Dekalb County Courthouse Dekalb County Courthouse
SUMMARY:Fast & Fabulous--Powered by SweetCars
DESCRIPTION:Fast &#038; Fabulous powered by SweetCars\,  presented by the A
 CD Festival. Times: 5:00 to 5:30 PM arrival downtown; 5:30 to 7:30 PM cars 
 displayed. Location: Courthouse Square\,  Downtown Auburn Cost: Free The AC
 D Festival proudly welcomes SweetCars and the Fort Wayne Driving Club (FWDC
 ) back to downtown Auburn for the[..]\nhttps://visiteasternindiana.com/even
 ts/fast-fabulous-powered-by-sweetcars-2/
URL:https://visiteasternindiana.com/events/fast-fabulous-powered-by-sweetcars-2/
END:VEVENT
END:VCALENDAR