BEGIN:VCALENDAR
VERSION:2.0
PRODID:-//eventon.com NONSGML v1.0//EN
CALSCALE:GREGORIAN
METHOD:PUBLISH
BEGIN:VEVENT
UID:69e7a2d71f25b
DTSTAMP:20260421T161623Z
DTSTART:20250718T230000Z
DTEND:20250719T020000Z
LOCATION:Noble County Community Fairgrounds 580 Fair Street. Kendallville\,  IN 46755
SUMMARY:2025 Combine Derby
DESCRIPTION:We are on track to make this the largest Combine Derby in the M
 idwest. Hopefully we will be able to announce some of the biggest payouts i
 n the history of the Derby. https://www.facebook.com/events/304159426598238
 5/\nhttps://visiteasternindiana.com/events/2025-combine-derby/
URL:https://visiteasternindiana.com/events/2025-combine-derby/
END:VEVENT
END:VCALENDAR