BEGIN:VCALENDAR
VERSION:2.0
PRODID:-//eventon.com NONSGML v1.0//EN
CALSCALE:GREGORIAN
METHOD:PUBLISH
BEGIN:VEVENT
UID:69ed86b63df45
DTSTAMP:20260426T032958Z
DTSTART:20230708T140000Z
DTEND:20230708T230000Z
LOCATION:Freimann Square 200 E. Main St.\,  Fort Wayne\,  IN 46802
SUMMARY:Three Rivers Festival - ART IN THE PARK
DESCRIPTION:Art in the Park is a two-day\,  juried fine art show in the hea
 rt of beautiful downtown Fort Wayne. Located in Freimann Square on Main Str
 eet\,  Art in the Park celebrates artists from near and far in the center o
 f our city-s arts campus. It is here that anyone\,  from[..]\nhttps://visit
 easternindiana.com/events/three-rivers-festival-art-in-the-park/
URL:https://visiteasternindiana.com/events/three-rivers-festival-art-in-the-park/
END:VEVENT
END:VCALENDAR