BEGIN:VCALENDAR
VERSION:2.0
PRODID:-//eventon.com NONSGML v1.0//EN
CALSCALE:GREGORIAN
METHOD:PUBLISH
BEGIN:VEVENT
UID:69ed85b5cc18c
DTSTAMP:20260426T032541Z
DTSTART:20230708T134500Z
DTEND:20230708T160000Z
LOCATION:Downtown Fort Wayne 100 W Berry St.\,  Fort Wayne\,  IN 46802
SUMMARY:Three Rivers Festival - PARADE
DESCRIPTION:Three Rivers Festival Parade Presented by Steel Dynamics: Unite
 d Through the Arts Each July\,  more than 50\, 000 of our closest friends a
 nd neighbors line the streets of downtown Fort Wayne to witness the floats\
 ,  hear the bands\,  and celebrate our community at the official kickoff to
  the Three Rivers Festival.[..]\nhttps://visiteasternindiana.com/events/thr
 ee-rivers-festival-parade/
URL:https://visiteasternindiana.com/events/three-rivers-festival-parade/
END:VEVENT
END:VCALENDAR