BEGIN:VCALENDAR
VERSION:2.0
PRODID:-//eventon.com NONSGML v1.0//EN
CALSCALE:GREGORIAN
METHOD:PUBLISH
BEGIN:VEVENT
UID:69ecee49a7a5c
DTSTAMP:20260425T163937Z
DTSTART:20230930T050000Z
DTEND:20230930T050000Z
LOCATION:Prairie Creek Reservoir 7801 S. CR 560 E.
SUMMARY:Ironman 70.3 Muncie
DESCRIPTION:Discover the charm of the Hoosier State by racing in IRONMAN 70
 .3 Muncie. Itâ€™s no wonder why this family-friendly town has been hosting 
 athletes and spectators for over 40 years. Outdoor adventures\,  childrenâ€
 ™s activities and a memorable IRONMAN experience keeps athletes coming back
  every summer.\nhttps://visiteasternindiana.com/events/ironman-70-3-muncie/
URL:https://visiteasternindiana.com/events/ironman-70-3-muncie/
END:VEVENT
END:VCALENDAR