BEGIN:VCALENDAR
VERSION:2.0
PRODID:-//eventon.com NONSGML v1.0//EN
CALSCALE:GREGORIAN
METHOD:PUBLISH
BEGIN:VEVENT
UID:69eb9be02757f
DTSTAMP:20260424T163544Z
DTSTART:20260411T120000Z
DTEND:20260411T150000Z
LOCATION:2270 S County Road 1000 W\,  Shipshewana\,  IN 46565-9344\,  United States 2270 S County Road 1000 W\,  Shipshewana\,  IN 46565-9344\,  United States
SUMMARY:Yoder's Consignment Auction
DESCRIPTION:Yoders Consignment Auction 7 miles southwest of Shipshewana\,  
 IN to CR 200 S and 1000 W then south 1/4 mile Accepting consignments daily 
 Monday thru Friday the week of the sale. Vendors contact us via mail at 227
 0 S 1000 W Shipshewana\,  IN 46565 or at 260-768-7752 ext 3 Sale[..]\nhttps
 ://visiteasternindiana.com/events/yoders-consignment-auction-3/
URL:https://visiteasternindiana.com/events/yoders-consignment-auction-3/
END:VEVENT
END:VCALENDAR