BEGIN:VCALENDAR
VERSION:2.0
PRODID:-//eventon.com NONSGML v1.0//EN
CALSCALE:GREGORIAN
METHOD:PUBLISH
BEGIN:VEVENT
UID:69eba035d52ba
DTSTAMP:20260424T165413Z
DTSTART:20260417T233000Z
DTEND:20260418T023000Z
LOCATION:Eagles Theatre 106 W Market St
SUMMARY:Sanctus Real
DESCRIPTION:Sanctus Real Sponsored by Kirtlan Automotive https://www.kirtla
 nauto.com/ Fri. April 17 7:30 pm Sanctus Real has become one of the most we
 ll-loved artists in Christian music\,  known for anthems like “Lead Me\, 
 ” “I’m Not Alright\, ” “Forgiven\, ” “Confidence\, ” and 
 My God Is Still The Same.” With eight No. 1 songs\,  19 Top[..]\nhttps:/
 /visiteasternindiana.com/events/sanctus-real-2/
URL:https://visiteasternindiana.com/events/sanctus-real-2/
END:VEVENT
END:VCALENDAR