BEGIN:VCALENDAR
VERSION:2.0
PRODID:-//eventon.com NONSGML v1.0//EN
CALSCALE:GREGORIAN
METHOD:PUBLISH
BEGIN:VEVENT
UID:69ea3bb0f2f02
DTSTAMP:20260423T153304Z
DTSTART:20251122T020000Z
DTEND:20251122T040000Z
LOCATION:Shamrocks Pub &amp; Grub Shamrocks Pub &amp; Grub
SUMMARY:Marion Shamrock's Pub & Grub Presents Former Gunslinger Bandmates Doug Holt & Ryne Schaden
DESCRIPTION:Friday 9-11pm Former Gunslinger Bandmates Doug Holt &#038; Ryne
  Schaden Acoustic Show Shamrocks Pub &#038; Grub 515 N Washington St\,  Mar
 ion\,  IN (765) 573-6225 Good Food &#038; Drinks! Music\,  Dancing\,  and F
 un! Everyones welcome &#038; All Musicians are welcome to get up and kick i
 t with us! https://www.facebook.com/events/1569529637033150/?event_time_id=
 1569529647033149\nhttps://visiteasternindiana.com/events/marion-shamrocks-p
 ub-grub-presents-former-gunslinger-bandmates-doug-holt-ryne-schaden/
URL:https://visiteasternindiana.com/events/marion-shamrocks-pub-grub-presents-former-gunslinger-bandmates-doug-holt-ryne-schaden/
END:VEVENT
END:VCALENDAR